Workbook
Name Comportamenti: [1]Comportamenti!$A$2:$A$10
Name Valore: [1]Comportamenti!$B$2:$B$10

Sheet Elenco P.I.
BX1: COMPORTAMENTO | BY1: OGGETTO DELLA MISURAZIONE
B2: Comune di Arborea
B4: Programmazione Performance Obiettivi Specifici dell'Area | BX4: A - Traduzione operativa dei piani e programmi della politica: | BY4: A - Capacità di declinare in obiettivi concreti i piani e i programmi della politica;
BX5: D - Innovatività: | BY5: D -  iniziativa e propositività;  capacità di risolvere i problemi;  autonomia;  capacità di cogliere le opportunità delle innovazioni tecnologiche;  capacità di definire regole e modalità operative nuove;  introduzione di strumenti gestionali innovativi;
B7: Area: Tecnica | E7: Peso Assegnato | S7: Peso Assoluto Obiettivo | T7: Peso % Obiettivo | U7: Fornule | V7: Risultato (%) | W7: Valutazione del risultato ottenuto - Percentuali di conseguimento | AB7: NOTE | BX7: E - Gestione risorse economiche | BY7: E -  capacità di standardizzare le procedure, finalizzandole al recupero dell’efficienza;  rispetto dei vincoli finanziari;  capacità di orientare e controllare l’efficienza e l’economicità dei servizi affidati a soggetti esterni all’organizzazione;
E8: Giunta | L8: Dirigenti/Responsabili | W8: 1 | X8: 2 | Y8: 3 | Z8: 4 | AA8: 5 | BX8: F - Orientamento alla qualità dei servizi | BY8: F -  rispetto dei termini dei procedimenti  presidio delle attività: comprensione e rimozione delle cause degli scostamenti dagli standard di servizio rispettando i criteri quali – quantitativi;  capacità di programmare e definire adeguati standard rispetto ai servizi erogati;  capacità di organizzare e gestire i processi di lavoro per il raggiungimento degli obiettivi controllandone l’andamento;  gestione efficace del tempo di lavoro rispetto agli obiettivi e supervisione della gestione del tempo di lavoro dei propri collaboratori;  capacità di limitare il contenzioso;  capacità di orientare e controllare la qualità dei servizi affidati a soggetti esterni all’organizzazione;
E9: Importanza | H9: Impatto Esterno | K9: Esito | L9: Complessità | O9: Realizzabilità | R9: Esito | W9: 0% ÷ 20% | X9: 21% ÷ 50% | Y9: 51% ÷ 70% | Z9: 71%÷90% | AA9: 91% ÷100% | BX9: H - Integrazione con gli amministratori su obiettivi assegnati, con i colleghi su obiettivi comuni | BY9: H -  Capacità di creare occasioni di scambio e mantenere rapporti attivi e costruttivi con i colleghi e con gli amministratori;  Capacità di prevenire ed individuare i momenti di difficoltà e fornire contributi concreti per il loro superamento;  Capacità di comprendere le divergenze e prevenire gli effetti di conflitto;  Efficacia dell’assistenza agli organi di governo;  Disponibilità ad adattare il tempo di lavoro agli obiettivi gestionali concordati e ad accogliere ulteriori esigenze dell’ente Attenzione alle necessità delle altre aree se (formalmente e informalmente) coinvolte in processi lavorativi trasversali rispetto alla propria;  Predisposizione di dati e procedure all’interno della propria struttura in pre-visione di una loro ricaduta su altre aree;
B10: Obiettivo Operativo: Giunta | C10: Performance Attesa | D10: Indicatore | E10: Alta | F10: Media | G10: Bassa | H10: Alta | I10: Media | J10: Bassa | L10: Alta | M10: Media | N10: Bassa | O10: Alta | P10: Media | Q10: Bassa | W10: Non Avviato | X10: Avviato | Y10: Perseguito | Z10: Parzialmente Raggiunto | AA10: Pienamente Raggiunto | BX10: I - Analisi e soluzione dei problemi | BY10: I -  Capacità di individuare le caratteristiche (variabili o costanti) dei problemi;  Capacità di individuare (anche in modo creativo) ipotesi di soluzione rispetto alle cause;  Capacità di definire le azioni da adottare;  Capacità di reperire le risorse umane, strumentali e finanziarie;  Capacità di verificare l’efficacia della soluzione trovata;  Capacità nell’identificazione ed eliminazione delle anomalie e dei ritardi;  Capacità e tempestività nelle Risposte;
B11: Garantire il controllo effettivo da parte della stazione appaltante sull’esecuzione delle prestazioni | C11: Predisposizione preventiva delle modalità organizzative e gestionali attraverso le quali garantire il controllo effettivo da parte della stazione appaltante sull’esecuzione delle prestazioni, programmando accessi diretti sul luogo dell’esecuzione stessa, nonché verifiche, anche a sorpresa, sull’effettiva ottemperanza a tutte le misure previste nel capitolato d'appalto. Il responsabile avvrà cura di presentare all'atto della valutazione finale e/o intermedia il documento di programmazione, corredato dalla successiva relazione su quanto effettivamente effettuato in allegato al presente obiettivo. | D11: Formula =[Azione Attuata/Azione Programmata ]*100 | E11: x | J11: x | K11: =IF(E11="x",5,0)+IF(F11="x",3,0)+IF(G11="x",1,0)+IF(H11="x",5,0)+IF(I11="x",3,0)+IF(J11="x",1,0) -> 6 | R11: =IF(L11="x",5,0)+IF(M11="x",3,0)+IF(N11="x",1,0)+IF(O11="x",1,0)+IF(P11="x",3,0)+IF(Q11="x",5,0) -> 0 | S11: =K11+R11 -> 6 | T11: =K11+R11 -> 6 | U11: =V11/100 -> 1 | V11: 100 | W11: =IF($U11<=0.2,IF($U11>=0,"x",""),"") | X11: =IF(U11<=0.5,IF(U11>=0.21,"x",""),"") | Y11: =IF(U11<=0.7,IF(U11>=0.51,"x",""),"") | Z11: =IF(U11<=0.9,IF(U11>=0.71,"x",""),"") | AA11: =IF(U11<=1,IF(U11>0.9,"x",""),"") -> x | BX11: L - Capacità Negoziale | BY11: L -  Capacità di concepire il conflitto come risorsa potenziale;  Capacità di tenere conto dei diversi interessi in gioco;  Capacità di elaborare e proporre mediazioni che tengano conto di tutti gli interessi in gioco;
B12: Gestione Programma OO.PP. | C12: 1. Ricognizione dello stato delle OOPP in essere, con indicazione del cronoprogramma dei lavori, tipologia di affidamento e segnalazione di eventuali criticità; | E12: x | H12: x | K12: =IF(E12="x",5,0)+IF(F12="x",3,0)+IF(G12="x",1,0)+IF(H12="x",5,0)+IF(I12="x",3,0)+IF(J12="x",1,0) -> 10 | L12: x | Q12: x | R12: =IF(L12="x",5,0)+IF(M12="x",3,0)+IF(N12="x",1,0)+IF(O12="x",1,0)+IF(P12="x",3,0)+IF(Q12="x",5,0) -> 10 | S12: =K12+R12 -> 20 | T12: =K12+R12 -> 20 | U12: =V12/100 -> 1 | V12: 100 | W12: =IF($U12<=0.2,IF($U12>=0,"x",""),"") | X12: =IF(U12<=0.5,IF(U12>=0.21,"x",""),"") | Y12: =IF(U12<=0.7,IF(U12>=0.51,"x",""),"") | Z12: =IF(U12<=0.9,IF(U12>=0.71,"x",""),"") | AA12: =IF(U12<=1,IF(U12>0.9,"x",""),"") -> x | BX12: L - Capacità Negoziale | BY12: L -  Capacità di concepire il conflitto come risorsa potenziale;  Capacità di tenere conto dei diversi interessi in gioco;  Capacità di elaborare e proporre mediazioni che tengano conto di tutti gli interessi in gioco;
B13: Gestione Efficiente del Patrimonio | C13: 3. Mantenere in perfetta sicurezza ed efficacia il patrimonio esistente: Assicurare la manutenzione straordinaria con una programmazione anche preventiva rispetto a quella interventiva del patrimonio esistente. Predisposizione di un piano di manutenzione straordinaria degli immobili comunali; | E13: x | H13: x | K13: =IF(E13="x",5,0)+IF(F13="x",3,0)+IF(G13="x",1,0)+IF(H13="x",5,0)+IF(I13="x",3,0)+IF(J13="x",1,0) -> 10 | L13: x | Q13: x | R13: =IF(L13="x",5,0)+IF(M13="x",3,0)+IF(N13="x",1,0)+IF(O13="x",1,0)+IF(P13="x",3,0)+IF(Q13="x",5,0) -> 10 | S13: =K13+R13 -> 20 | T13: =K13+R13 -> 20 | U13: =V13/100 -> 1 | V13: 100 | W13: =IF($U13<=0.2,IF($U13>=0,"x",""),"") | X13: =IF(U13<=0.5,IF(U13>=0.21,"x",""),"") | Y13: =IF(U13<=0.7,IF(U13>=0.51,"x",""),"") | Z13: =IF(U13<=0.9,IF(U13>=0.71,"x",""),"") | AA13: =IF(U13<=1,IF(U13>0.9,"x",""),"") -> x | BX13: L - Capacità Negoziale | BY13: L -  Capacità di concepire il conflitto come risorsa potenziale;  Capacità di tenere conto dei diversi interessi in gioco;  Capacità di elaborare e proporre mediazioni che tengano conto di tutti gli interessi in gioco;
K14: =IF(E14="x",5,0)+IF(F14="x",3,0)+IF(G14="x",1,0)+IF(H14="x",5,0)+IF(I14="x",3,0)+IF(J14="x",1,0) -> 0 | R14: =IF(L14="x",5,0)+IF(M14="x",3,0)+IF(N14="x",1,0)+IF(O14="x",1,0)+IF(P14="x",3,0)+IF(Q14="x",5,0) -> 0 | S14: =K14+R14 -> 0 | T14: =K14+R14 -> 0 | U14: =V14/100 -> 1 | V14: 100 | W14: =IF($U14<=0.2,IF($U14>=0,"x",""),"") | X14: =IF(U14<=0.5,IF(U14>=0.21,"x",""),"") | Y14: =IF(U14<=0.7,IF(U14>=0.51,"x",""),"") | Z14: =IF(U14<=0.9,IF(U14>=0.71,"x",""),"") | AA14: =IF(U14<=1,IF(U14>0.9,"x",""),"") -> x | BX14: L - Capacità Negoziale | BY14: L -  Capacità di concepire il conflitto come risorsa potenziale;  Capacità di tenere conto dei diversi interessi in gioco;  Capacità di elaborare e proporre mediazioni che tengano conto di tutti gli interessi in gioco;
K15: =IF(E15="x",5,0)+IF(F15="x",3,0)+IF(G15="x",1,0)+IF(H15="x",5,0)+IF(I15="x",3,0)+IF(J15="x",1,0) -> 0 | R15: =IF(L15="x",5,0)+IF(M15="x",3,0)+IF(N15="x",1,0)+IF(O15="x",1,0)+IF(P15="x",3,0)+IF(Q15="x",5,0) -> 0 | S15: =K15+R15 -> 0 | T15: =K15+R15 -> 0 | U15: =V15/100 -> 1 | V15: 100 | W15: =IF($U15<=0.2,IF($U15>=0,"x",""),"") | X15: =IF(U15<=0.5,IF(U15>=0.21,"x",""),"") | Y15: =IF(U15<=0.7,IF(U15>=0.51,"x",""),"") | Z15: =IF(U15<=0.9,IF(U15>=0.71,"x",""),"") | AA15: =IF(U15<=1,IF(U15>0.9,"x",""),"") -> x | BX15: L - Capacità Negoziale | BY15: L -  Capacità di concepire il conflitto come risorsa potenziale;  Capacità di tenere conto dei diversi interessi in gioco;  Capacità di elaborare e proporre mediazioni che tengano conto di tutti gli interessi in gioco;
K16: =IF(E16="x",5,0)+IF(F16="x",3,0)+IF(G16="x",1,0)+IF(H16="x",5,0)+IF(I16="x",3,0)+IF(J16="x",1,0) -> 0 | R16: =IF(L16="x",5,0)+IF(M16="x",3,0)+IF(N16="x",1,0)+IF(O16="x",1,0)+IF(P16="x",3,0)+IF(Q16="x",5,0) -> 0 | S16: =K16+R16 -> 0 | T16: =K16+R16 -> 0 | U16: =V16/100 -> 1 | V16: 100 | W16: =IF($U16<=0.2,IF($U16>=0,"x",""),"") | X16: =IF(U16<=0.5,IF(U16>=0.21,"x",""),"") | Y16: =IF(U16<=0.7,IF(U16>=0.51,"x",""),"") | Z16: =IF(U16<=0.9,IF(U16>=0.71,"x",""),"") | AA16: =IF(U16<=1,IF(U16>0.9,"x",""),"") -> x
K17: =IF(E17="x",5,0)+IF(F17="x",3,0)+IF(G17="x",1,0)+IF(H17="x",5,0)+IF(I17="x",3,0)+IF(J17="x",1,0) -> 0 | R17: =IF(L17="x",5,0)+IF(M17="x",3,0)+IF(N17="x",1,0)+IF(O17="x",1,0)+IF(P17="x",3,0)+IF(Q17="x",5,0) -> 0 | S17: =K17+R17 -> 0 | T17: =K17+R17 -> 0 | U17: =V17/100 -> 0 | W17: =IF($U17<=0.2,IF($U17>=0,"x",""),"") -> x | X17: =IF(U17<=0.5,IF(U17>=0.21,"x",""),"") | Y17: =IF(U17<=0.7,IF(U17>=0.51,"x",""),"") | Z17: =IF(U17<=0.9,IF(U17>=0.71,"x",""),"") | AA17: =IF(U17<=1,IF(U17>0.9,"x",""),"")
K18: =IF(E18="x",5,0)+IF(F18="x",3,0)+IF(G18="x",1,0)+IF(H18="x",5,0)+IF(I18="x",3,0)+IF(J18="x",1,0) -> 0 | R18: =IF(L18="x",5,0)+IF(M18="x",3,0)+IF(N18="x",1,0)+IF(O18="x",1,0)+IF(P18="x",3,0)+IF(Q18="x",5,0) -> 0 | S18: =K18+R18 -> 0 | T18: =K18+R18 -> 0 | U18: =V18/100 -> 0 | W18: =IF($U18<=0.2,IF($U18>=0,"x",""),"") -> x | X18: =IF(U18<=0.5,IF(U18>=0.21,"x",""),"") | Y18: =IF(U18<=0.7,IF(U18>=0.51,"x",""),"") | Z18: =IF(U18<=0.9,IF(U18>=0.71,"x",""),"") | AA18: =IF(U18<=1,IF(U18>0.9,"x",""),"") | BX18: M - Realizzazione | BY18: M -  Capacità di raggiungere gli obiettivi predisponendo i processi di lavoro e controllandone l’andamento;  Capacità di rispettare e far rispettare le scadenze concordate;  Capacità di realizzare gli obiettivi rispettando i criteri quali-quantitativi;
K19: =IF(E19="x",5,0)+IF(F19="x",3,0)+IF(G19="x",1,0)+IF(H19="x",5,0)+IF(I19="x",3,0)+IF(J19="x",1,0) -> 0 | R19: =IF(L19="x",5,0)+IF(M19="x",3,0)+IF(N19="x",1,0)+IF(O19="x",1,0)+IF(P19="x",3,0)+IF(Q19="x",5,0) -> 0 | S19: =K19+R19 -> 0 | T19: =K19+R19 -> 0 | U19: =V19/100 -> 1 | V19: 100 | W19: =IF($U19<=0.2,IF($U19>=0,"x",""),"") | X19: =IF(U19<=0.5,IF(U19>=0.21,"x",""),"") | Y19: =IF(U19<=0.7,IF(U19>=0.51,"x",""),"") | Z19: =IF(U19<=0.9,IF(U19>=0.71,"x",""),"") | AA19: =IF(U19<=1,IF(U19>0.9,"x",""),"") -> x | BX19: L - Capacità Negoziale | BY19: L -  Capacità di concepire il conflitto come risorsa potenziale;  Capacità di tenere conto dei diversi interessi in gioco;  Capacità di elaborare e proporre mediazioni che tengano conto di tutti gli interessi in gioco;
K20: =IF(E20="x",5,0)+IF(F20="x",3,0)+IF(G20="x",1,0)+IF(H20="x",5,0)+IF(I20="x",3,0)+IF(J20="x",1,0) -> 0 | R20: =IF(L20="x",5,0)+IF(M20="x",3,0)+IF(N20="x",1,0)+IF(O20="x",1,0)+IF(P20="x",3,0)+IF(Q20="x",5,0) -> 0 | S20: =K20+R20 -> 0 | T20: =K20+R20 -> 0 | U20: =V20/100 -> 1 | V20: 100 | W20: =IF($U20<=0.2,IF($U20>=0,"x",""),"") | X20: =IF(U20<=0.5,IF(U20>=0.21,"x",""),"") | Y20: =IF(U20<=0.7,IF(U20>=0.51,"x",""),"") | Z20: =IF(U20<=0.9,IF(U20>=0.71,"x",""),"") | AA20: =IF(U20<=1,IF(U20>0.9,"x",""),"") -> x
K21: =IF(E21="x",5,0)+IF(F21="x",3,0)+IF(G21="x",1,0)+IF(H21="x",5,0)+IF(I21="x",3,0)+IF(J21="x",1,0) -> 0 | R21: =IF(L21="x",5,0)+IF(M21="x",3,0)+IF(N21="x",1,0)+IF(O21="x",1,0)+IF(P21="x",3,0)+IF(Q21="x",5,0) -> 0 | S21: =K21+R21 -> 0 | T21: =K21+R21 -> 0 | U21: =V21/100 -> 0 | W21: =IF($U21<=0.2,IF($U21>=0,"x",""),"") -> x | X21: =IF(U21<=0.5,IF(U21>=0.21,"x",""),"") | Y21: =IF(U21<=0.7,IF(U21>=0.51,"x",""),"") | Z21: =IF(U21<=0.9,IF(U21>=0.71,"x",""),"") | AA21: =IF(U21<=1,IF(U21>0.9,"x",""),"")
K22: =IF(E22="x",5,0)+IF(F22="x",3,0)+IF(G22="x",1,0)+IF(H22="x",5,0)+IF(I22="x",3,0)+IF(J22="x",1,0) -> 0 | R22: =IF(L22="x",5,0)+IF(M22="x",3,0)+IF(N22="x",1,0)+IF(O22="x",1,0)+IF(P22="x",3,0)+IF(Q22="x",5,0) -> 0 | S22: =K22+R22 -> 0 | T22: =K22+R22 -> 0 | U22: =V22/100 -> 0 | W22: =IF($U22<=0.2,IF($U22>=0,"x",""),"") -> x | X22: =IF(U22<=0.5,IF(U22>=0.21,"x",""),"") | Y22: =IF(U22<=0.7,IF(U22>=0.51,"x",""),"") | Z22: =IF(U22<=0.9,IF(U22>=0.71,"x",""),"") | AA22: =IF(U22<=1,IF(U22>0.9,"x",""),"") | BX22: M - Realizzazione | BY22: M -  Capacità di raggiungere gli obiettivi predisponendo i processi di lavoro e controllandone l’andamento;  Capacità di rispettare e far rispettare le scadenze concordate;  Capacità di realizzare gli obiettivi rispettando i criteri quali-quantitativi;
K23: =IF(E23="x",5,0)+IF(F23="x",3,0)+IF(G23="x",1,0)+IF(H23="x",5,0)+IF(I23="x",3,0)+IF(J23="x",1,0) -> 0 | R23: =IF(L23="x",5,0)+IF(M23="x",3,0)+IF(N23="x",1,0)+IF(O23="x",1,0)+IF(P23="x",3,0)+IF(Q23="x",5,0) -> 0 | S23: =K23+R23 -> 0 | T23: =K23+R23 -> 0 | U23: =V23/100 -> 1 | V23: 100 | W23: =IF($U23<=0.2,IF($U23>=0,"x",""),"") | X23: =IF(U23<=0.5,IF(U23>=0.21,"x",""),"") | Y23: =IF(U23<=0.7,IF(U23>=0.51,"x",""),"") | Z23: =IF(U23<=0.9,IF(U23>=0.71,"x",""),"") | AA23: =IF(U23<=1,IF(U23>0.9,"x",""),"") -> x | BX23: L - Capacità Negoziale | BY23: L -  Capacità di concepire il conflitto come risorsa potenziale;  Capacità di tenere conto dei diversi interessi in gioco;  Capacità di elaborare e proporre mediazioni che tengano conto di tutti gli interessi in gioco;
K24: =IF(E24="x",5,0)+IF(F24="x",3,0)+IF(G24="x",1,0)+IF(H24="x",5,0)+IF(I24="x",3,0)+IF(J24="x",1,0) -> 0 | R24: =IF(L24="x",5,0)+IF(M24="x",3,0)+IF(N24="x",1,0)+IF(O24="x",1,0)+IF(P24="x",3,0)+IF(Q24="x",5,0) -> 0 | S24: =K24+R24 -> 0 | T24: =K24+R24 -> 0 | U24: =V24/100 -> 1 | V24: 100 | W24: =IF($U24<=0.2,IF($U24>=0,"x",""),"") | X24: =IF(U24<=0.5,IF(U24>=0.21,"x",""),"") | Y24: =IF(U24<=0.7,IF(U24>=0.51,"x",""),"") | Z24: =IF(U24<=0.9,IF(U24>=0.71,"x",""),"") | AA24: =IF(U24<=1,IF(U24>0.9,"x",""),"") -> x
K25: =IF(E25="x",5,0)+IF(F25="x",3,0)+IF(G25="x",1,0)+IF(H25="x",5,0)+IF(I25="x",3,0)+IF(J25="x",1,0) -> 0 | R25: =IF(L25="x",5,0)+IF(M25="x",3,0)+IF(N25="x",1,0)+IF(O25="x",1,0)+IF(P25="x",3,0)+IF(Q25="x",5,0) -> 0 | S25: =K25+R25 -> 0 | T25: =K25+R25 -> 0 | U25: =V25/100 -> 0 | W25: =IF($U25<=0.2,IF($U25>=0,"x",""),"") -> x | X25: =IF(U25<=0.5,IF(U25>=0.21,"x",""),"") | Y25: =IF(U25<=0.7,IF(U25>=0.51,"x",""),"") | Z25: =IF(U25<=0.9,IF(U25>=0.71,"x",""),"") | AA25: =IF(U25<=1,IF(U25>0.9,"x",""),"")
K26: =IF(E26="x",5,0)+IF(F26="x",3,0)+IF(G26="x",1,0)+IF(H26="x",5,0)+IF(I26="x",3,0)+IF(J26="x",1,0) -> 0 | R26: =IF(L26="x",5,0)+IF(M26="x",3,0)+IF(N26="x",1,0)+IF(O26="x",1,0)+IF(P26="x",3,0)+IF(Q26="x",5,0) -> 0 | S26: =K26+R26 -> 0 | T26: =K26+R26 -> 0 | U26: =V26/100 -> 0 | W26: =IF($U26<=0.2,IF($U26>=0,"x",""),"") -> x | X26: =IF(U26<=0.5,IF(U26>=0.21,"x",""),"") | Y26: =IF(U26<=0.7,IF(U26>=0.51,"x",""),"") | Z26: =IF(U26<=0.9,IF(U26>=0.71,"x",""),"") | AA26: =IF(U26<=1,IF(U26>0.9,"x",""),"") | BX26: M - Realizzazione | BY26: M -  Capacità di raggiungere gli obiettivi predisponendo i processi di lavoro e controllandone l’andamento;  Capacità di rispettare e far rispettare le scadenze concordate;  Capacità di realizzare gli obiettivi rispettando i criteri quali-quantitativi;
K27: =IF(E27="x",5,0)+IF(F27="x",3,0)+IF(G27="x",1,0)+IF(H27="x",5,0)+IF(I27="x",3,0)+IF(J27="x",1,0) -> 0 | R27: =IF(L27="x",5,0)+IF(M27="x",3,0)+IF(N27="x",1,0)+IF(O27="x",1,0)+IF(P27="x",3,0)+IF(Q27="x",5,0) -> 0 | S27: =K27+R27 -> 0 | T27: =K27+R27 -> 0 | U27: =V27/100 -> 1 | V27: 100 | W27: =IF($U27<=0.2,IF($U27>=0,"x",""),"") | X27: =IF(U27<=0.5,IF(U27>=0.21,"x",""),"") | Y27: =IF(U27<=0.7,IF(U27>=0.51,"x",""),"") | Z27: =IF(U27<=0.9,IF(U27>=0.71,"x",""),"") | AA27: =IF(U27<=1,IF(U27>0.9,"x",""),"") -> x | BX27: L - Capacità Negoziale | BY27: L -  Capacità di concepire il conflitto come risorsa potenziale;  Capacità di tenere conto dei diversi interessi in gioco;  Capacità di elaborare e proporre mediazioni che tengano conto di tutti gli interessi in gioco;
K28: =IF(E28="x",5,0)+IF(F28="x",3,0)+IF(G28="x",1,0)+IF(H28="x",5,0)+IF(I28="x",3,0)+IF(J28="x",1,0) -> 0 | R28: =IF(L28="x",5,0)+IF(M28="x",3,0)+IF(N28="x",1,0)+IF(O28="x",1,0)+IF(P28="x",3,0)+IF(Q28="x",5,0) -> 0 | S28: =K28+R28 -> 0 | T28: =K28+R28 -> 0 | U28: =V28/100 -> 1 | V28: 100 | W28: =IF($U28<=0.2,IF($U28>=0,"x",""),"") | X28: =IF(U28<=0.5,IF(U28>=0.21,"x",""),"") | Y28: =IF(U28<=0.7,IF(U28>=0.51,"x",""),"") | Z28: =IF(U28<=0.9,IF(U28>=0.71,"x",""),"") | AA28: =IF(U28<=1,IF(U28>0.9,"x",""),"") -> x
K29: =IF(E29="x",5,0)+IF(F29="x",3,0)+IF(G29="x",1,0)+IF(H29="x",5,0)+IF(I29="x",3,0)+IF(J29="x",1,0) -> 0 | R29: =IF(L29="x",5,0)+IF(M29="x",3,0)+IF(N29="x",1,0)+IF(O29="x",1,0)+IF(P29="x",3,0)+IF(Q29="x",5,0) -> 0 | S29: =K29+R29 -> 0 | T29: =K29+R29 -> 0 | U29: =V29/100 -> 0 | W29: =IF($U29<=0.2,IF($U29>=0,"x",""),"") -> x | X29: =IF(U29<=0.5,IF(U29>=0.21,"x",""),"") | Y29: =IF(U29<=0.7,IF(U29>=0.51,"x",""),"") | Z29: =IF(U29<=0.9,IF(U29>=0.71,"x",""),"") | AA29: =IF(U29<=1,IF(U29>0.9,"x",""),"")
K30: =IF(E30="x",5,0)+IF(F30="x",3,0)+IF(G30="x",1,0)+IF(H30="x",5,0)+IF(I30="x",3,0)+IF(J30="x",1,0) -> 0 | R30: =IF(L30="x",5,0)+IF(M30="x",3,0)+IF(N30="x",1,0)+IF(O30="x",1,0)+IF(P30="x",3,0)+IF(Q30="x",5,0) -> 0 | S30: =K30+R30 -> 0 | T30: =K30+R30 -> 0 | U30: =V30/100 -> 0 | W30: =IF($U30<=0.2,IF($U30>=0,"x",""),"") -> x | X30: =IF(U30<=0.5,IF(U30>=0.21,"x",""),"") | Y30: =IF(U30<=0.7,IF(U30>=0.51,"x",""),"") | Z30: =IF(U30<=0.9,IF(U30>=0.71,"x",""),"") | AA30: =IF(U30<=1,IF(U30>0.9,"x",""),"") | BX30: M - Realizzazione | BY30: M -  Capacità di raggiungere gli obiettivi predisponendo i processi di lavoro e controllandone l’andamento;  Capacità di rispettare e far rispettare le scadenze concordate;  Capacità di realizzare gli obiettivi rispettando i criteri quali-quantitativi;
K31: =IF(E31="x",5,0)+IF(F31="x",3,0)+IF(G31="x",1,0)+IF(H31="x",5,0)+IF(I31="x",3,0)+IF(J31="x",1,0) -> 0 | R31: =IF(L31="x",5,0)+IF(M31="x",3,0)+IF(N31="x",1,0)+IF(O31="x",1,0)+IF(P31="x",3,0)+IF(Q31="x",5,0) -> 0 | S31: =K31+R31 -> 0 | T31: =K31+R31 -> 0 | U31: =V31/100 -> 1 | V31: 100 | W31: =IF($U31<=0.2,IF($U31>=0,"x",""),"") | X31: =IF(U31<=0.5,IF(U31>=0.21,"x",""),"") | Y31: =IF(U31<=0.7,IF(U31>=0.51,"x",""),"") | Z31: =IF(U31<=0.9,IF(U31>=0.71,"x",""),"") | AA31: =IF(U31<=1,IF(U31>0.9,"x",""),"") -> x | BX31: L - Capacità Negoziale | BY31: L -  Capacità di concepire il conflitto come risorsa potenziale;  Capacità di tenere conto dei diversi interessi in gioco;  Capacità di elaborare e proporre mediazioni che tengano conto di tutti gli interessi in gioco;
K32: =IF(E32="x",5,0)+IF(F32="x",3,0)+IF(G32="x",1,0)+IF(H32="x",5,0)+IF(I32="x",3,0)+IF(J32="x",1,0) -> 0 | R32: =IF(L32="x",5,0)+IF(M32="x",3,0)+IF(N32="x",1,0)+IF(O32="x",1,0)+IF(P32="x",3,0)+IF(Q32="x",5,0) -> 0 | S32: =K32+R32 -> 0 | T32: =K32+R32 -> 0 | U32: =V32/100 -> 1 | V32: 100 | W32: =IF($U32<=0.2,IF($U32>=0,"x",""),"") | X32: =IF(U32<=0.5,IF(U32>=0.21,"x",""),"") | Y32: =IF(U32<=0.7,IF(U32>=0.51,"x",""),"") | Z32: =IF(U32<=0.9,IF(U32>=0.71,"x",""),"") | AA32: =IF(U32<=1,IF(U32>0.9,"x",""),"") -> x
K33: =IF(E33="x",5,0)+IF(F33="x",3,0)+IF(G33="x",1,0)+IF(H33="x",5,0)+IF(I33="x",3,0)+IF(J33="x",1,0) -> 0 | R33: =IF(L33="x",5,0)+IF(M33="x",3,0)+IF(N33="x",1,0)+IF(O33="x",1,0)+IF(P33="x",3,0)+IF(Q33="x",5,0) -> 0 | S33: =K33+R33 -> 0 | T33: =K33+R33 -> 0 | U33: =V33/100 -> 0 | W33: =IF($U33<=0.2,IF($U33>=0,"x",""),"") -> x | X33: =IF(U33<=0.5,IF(U33>=0.21,"x",""),"") | Y33: =IF(U33<=0.7,IF(U33>=0.51,"x",""),"") | Z33: =IF(U33<=0.9,IF(U33>=0.71,"x",""),"") | AA33: =IF(U33<=1,IF(U33>0.9,"x",""),"")
K34: =IF(E34="x",5,0)+IF(F34="x",3,0)+IF(G34="x",1,0)+IF(H34="x",5,0)+IF(I34="x",3,0)+IF(J34="x",1,0) -> 0 | R34: =IF(L34="x",5,0)+IF(M34="x",3,0)+IF(N34="x",1,0)+IF(O34="x",1,0)+IF(P34="x",3,0)+IF(Q34="x",5,0) -> 0 | S34: =K34+R34 -> 0 | T34: =K34+R34 -> 0 | U34: =V34/100 -> 0 | W34: =IF($U34<=0.2,IF($U34>=0,"x",""),"") -> x | X34: =IF(U34<=0.5,IF(U34>=0.21,"x",""),"") | Y34: =IF(U34<=0.7,IF(U34>=0.51,"x",""),"") | Z34: =IF(U34<=0.9,IF(U34>=0.71,"x",""),"") | AA34: =IF(U34<=1,IF(U34>0.9,"x",""),"") | BX34: M - Realizzazione | BY34: M -  Capacità di raggiungere gli obiettivi predisponendo i processi di lavoro e controllandone l’andamento;  Capacità di rispettare e far rispettare le scadenze concordate;  Capacità di realizzare gli obiettivi rispettando i criteri quali-quantitativi;
E35: Giunta | K35: =SUM(K11:K14) -> 26 | L35: Responsabili | R35: =SUM(R11:R14) -> 20 | S35: =SUM(S11:S14) -> 46 | T35: =SUM(T11:T14) -> 46 | W35: Valutazione | AB35: ESITO
X36: =IF(X11="x",U11*T11)+IF(#REF!="x",#REF!*#REF!)+IF(#REF!="x",#REF!*#REF!)+IF(#REF!="x",#REF!*#REF!)+IF(#REF!="x",#REF!*#REF!)+IF(#REF!="x",#REF!*#REF!)+IF(#REF!="x",#REF!*#REF!)+IF(#REF!="x",#REF!*#REF!)+IF(X12="x",U12*T12)+IF(#REF!="x",#REF!*#REF!)+IF(#REF!="x",#REF!*#REF!)+IF(#REF!="x",#REF!*#REF!)+IF(X13="x",U13*T13)+IF(#REF!="x",#REF!*#REF!)+IF(#REF!="x",#REF!*#REF!)+IF(#REF!="x",#REF!*#REF!)+IF(X14="x",U14*T14)+IF(#REF!="x",#REF!*#REF!)+IF(#REF!="x",#REF!*#REF!)+IF(#REF!="x",#REF!*#REF!)+IF(X15="x",U15*T15)+IF(X16="x",U16*T16)+IF(X17="x",U17*T17)+IF(X18="x",U18*T18)+IF(X19="x",U19*T19)+IF(X20="x",U20*T20)+IF(X21="x",U21*T21)+IF(X22="x",U22*T22)+IF(X23="x",U23*T23)+IF(X24="x",U24*T24)+IF(X25="x",U25*T25)+IF(X26="x",U26*T26)+IF(X27="x",U27*T27)+IF(X28="x",U28*T28)+IF(X29="x",U29*T29)+IF(X30="x",U30*T30)+IF(X31="x",U31*T31)+IF(X32="x",U32*T32)+IF(X33="x",U33*T33)+IF(X34="x",U34*T34) -> #REF! | Y36: =IF(Y11="x",U11*T11)+IF(#REF!="x",#REF!*#REF!)+IF(#REF!="x",#REF!*#REF!)+IF(#REF!="x",#REF!*#REF!)+IF(#REF!="x",#REF!*#REF!)+IF(#REF!="x",#REF!*#REF!)+IF(#REF!="x",#REF!*#REF!)+IF(#REF!="x",#REF!*#REF!)+IF(Y12="x",U12*T12)+IF(#REF!="x",#REF!*#REF!)+IF(#REF!="x",#REF!*#REF!)+IF(#REF!="x",#REF!*#REF!)+IF(Y13="x",U13*T13)+IF(#REF!="x",#REF!*#REF!)+IF(#REF!="x",#REF!*#REF!)+IF(#REF!="x",#REF!*#REF!)+IF(Y14="x",U14*T14)+IF(#REF!="x",#REF!*#REF!)+IF(#REF!="x",#REF!*#REF!)+IF(#REF!="x",#REF!*#REF!)+IF(Y15="x",U15*T15)+IF(Y16="x",U16*T16)+IF(Y17="x",U17*T17)+IF(Y18="x",U18*T18)+IF(Y19="x",U19*T19)+IF(Y20="x",U20*T20)+IF(Y21="x",U21*T21)+IF(Y22="x",U22*T22)+IF(Y23="x",U23*T23)+IF(Y24="x",U24*T24)+IF(Y25="x",U25*T25)+IF(Y26="x",U26*T26)+IF(Y27="x",U27*T27)+IF(Y28="x",U28*T28)+IF(Y29="x",U29*T29)+IF(Y30="x",U30*T30)+IF(Y31="x",U31*T31)+IF(Y32="x",U32*T32)+IF(Y33="x",U33*T33)+IF(Y34="x",U34*T34) -> #REF! | Z36: =IF(Z11="x",U11*T11)+IF(#REF!="x",#REF!*#REF!)+IF(#REF!="x",#REF!*#REF!)+IF(#REF!="x",#REF!*#REF!)+IF(#REF!="x",#REF!*#REF!)+IF(#REF!="x",#REF!*#REF!)+IF(#REF!="x",#REF!*#REF!)+IF(#REF!="x",#REF!*#REF!)+IF(Z12="x",U12*T12)+IF(#REF!="x",#REF!*#REF!)+IF(#REF!="x",#REF!*#REF!)+IF(#REF!="x",#REF!*#REF!)+IF(Z13="x",U13*T13)+IF(#REF!="x",#REF!*#REF!)+IF(#REF!="x",#REF!*#REF!)+IF(#REF!="x",#REF!*#REF!)+IF(Z14="x",U14*T14)+IF(#REF!="x",#REF!*#REF!)+IF(#REF!="x",#REF!*#REF!)+IF(#REF!="x",#REF!*#REF!)+IF(Z15="x",U15*T15)+IF(Z16="x",U16*T16)+IF(Z17="x",U17*T17)+IF(Z18="x",U18*T18)+IF(Z19="x",U19*T19)+IF(Z20="x",U20*T20)+IF(Z21="x",U21*T21)+IF(Z22="x",U22*T22)+IF(Z23="x",U23*T23)+IF(Z24="x",U24*T24)+IF(Z25="x",U25*T25)+IF(Z26="x",U26*T26)+IF(Z27="x",U27*T27)+IF(Z28="x",U28*T28)+IF(Z29="x",U29*T29)+IF(Z30="x",U30*T30)+IF(Z31="x",U31*T31)+IF(Z32="x",U32*T32)+IF(Z33="x",U33*T33)+IF(Z34="x",U34*T34) -> #REF! | AA36: =IF(AA11="x",U11*T11)+IF(#REF!="x",#REF!*#REF!)+IF(#REF!="x",#REF!*#REF!)+IF(#REF!="x",#REF!*#REF!)+IF(#REF!="x",#REF!*#REF!)+IF(#REF!="x",#REF!*#REF!)+IF(#REF!="x",#REF!*#REF!)+IF(#REF!="x",#REF!*#REF!)+IF(AA12="x",U12*T12)+IF(#REF!="x",#REF!*#REF!)+IF(#REF!="x",#REF!*#REF!)+IF(#REF!="x",#REF!*#REF!)+IF(AA13="x",U13*T13)+IF(#REF!="x",#REF!*#REF!)+IF(#REF!="x",#REF!*#REF!)+IF(#REF!="x",#REF!*#REF!)+IF(AA14="x",U14*T14)+IF(#REF!="x",#REF!*#REF!)+IF(#REF!="x",#REF!*#REF!)+IF(#REF!="x",#REF!*#REF!)+IF(AA15="x",U15*T15)+IF(AA16="x",U16*T16)+IF(AA17="x",U17*T17)+IF(AA18="x",U18*T18)+IF(AA19="x",U19*T19)+IF(AA20="x",U20*T20)+IF(AA21="x",U21*T21)+IF(AA22="x",U22*T22)+IF(AA23="x",U23*T23)+IF(AA24="x",U24*T24)+IF(AA25="x",U25*T25)+IF(AA26="x",U26*T26)+IF(AA27="x",U27*T27)+IF(AA28="x",U28*T28)+IF(AA29="x",U29*T29)+IF(AA30="x",U30*T30)+IF(AA31="x",U31*T31)+IF(AA32="x",U32*T32)+IF(AA33="x",U33*T33)+IF(AA34="x",U34*T34) -> #REF! | AB36: =SUM(X36:AA36) -> #REF!
Y38: =AB36 -> #REF!

Sheet Elenco P.O.
CD1: COMPORTAMENTO | CE1: OGGETTO DELLA MISURAZIONE
B2: ='Elenco P.I.'!B2 -> Comune di Arborea
B4: ='Elenco P.I.'!B7 -> Area: Tecnica
CD5: D - Innovatività: | CE5: D -  iniziativa e propositività;  capacità di risolvere i problemi;  autonomia;  capacità di cogliere le opportunità delle innovazioni tecnologiche;  capacità di definire regole e modalità operative nuove;  introduzione di strumenti gestionali innovativi;
B7: Programmazione Performance Organizzativa 2021 | K7: Peso Assegnato | Y7: Peso Assoluto Obiettivo | Z7: Peso Obiettivo | AA7: Fornule | AB7: Risultato (%) | AC7: Valutazione del risultato ottenuto - Percentuali di conseguimento | AH7: NOTE | CD7: E - Gestione risorse economiche | CE7: E -  capacità di standardizzare le procedure, finalizzandole al recupero dell’efficienza;  rispetto dei vincoli finanziari;  capacità di orientare e controllare l’efficienza e l’economicità dei servizi affidati a soggetti esterni all’organizzazione;
K8: Giunta | R8: Dirigenti/Responsabili | AC8: 1 | AD8: 2 | AE8: 3 | AF8: 4 | AG8: 5 | CD8: F - Orientamento alla qualità dei servizi | CE8: F -  rispetto dei termini dei procedimenti  presidio delle attività: comprensione e rimozione delle cause degli scostamenti dagli standard di servizio rispettando i criteri quali – quantitativi;  capacità di programmare e definire adeguati standard rispetto ai servizi erogati;  capacità di organizzare e gestire i processi di lavoro per il raggiungimento degli obiettivi controllandone l’andamento;  gestione efficace del tempo di lavoro rispetto agli obiettivi e supervisione della gestione del tempo di lavoro dei propri collaboratori;  capacità di limitare il contenzioso;  capacità di orientare e controllare la qualità dei servizi affidati a soggetti esterni all’organizzazione;
K9: Importanza | N9: Impatto Esterno | Q9: Esito | R9: Complessità | U9: Realizzabilità | X9: Esito | AC9: 0% ÷ 20% | AD9: 21% ÷ 50% | AE9: 51% ÷ 70% | AF9: 71%÷90% | AG9: 91% ÷100% | CD9: H - Integrazione con gli amministratori su obiettivi assegnati, con i colleghi su obiettivi comuni | CE9: H -  Capacità di creare occasioni di scambio e mantenere rapporti attivi e costruttivi con i colleghi e con gli amministratori;  Capacità di prevenire ed individuare i momenti di difficoltà e fornire contributi concreti per il loro superamento;  Capacità di comprendere le divergenze e prevenire gli effetti di conflitto;  Efficacia dell’assistenza agli organi di governo;  Disponibilità ad adattare il tempo di lavoro agli obiettivi gestionali concordati e ad accogliere ulteriori esigenze dell’ente Attenzione alle necessità delle altre aree se (formalmente e informalmente) coinvolte in processi lavorativi trasversali rispetto alla propria;  Predisposizione di dati e procedure all’interno della propria struttura in pre-visione di una loro ricaduta su altre aree;
B10: Obiettivo Operativo: giunta | C10: Obiettivo Gestionale Dirigenti | D10: Unità di Misura Performance | E10: Descrizione | F10: Indicatore | G10: Performance Attesa 2020 | H10: Performance Attesa 2020 | I10: Performance Attesa 2021 | J10: Responsabile Primario | K10: Alta | L10: Media | M10: Bassa | N10: Alta | O10: Media | P10: Bassa | R10: Alta | S10: Media | T10: Bassa | U10: Alta | V10: Media | W10: Bassa | AC10: Non Avviato | AD10: Avviato | AE10: Perseguito | AF10: Parzialmente Raggiunto | AG10: Pienamente Raggiunto | AJ10: Peso Amministratori | AK10: Peso Dirigenti | CD10: I - Analisi e soluzione dei problemi | CE10: I -  Capacità di individuare le caratteristiche (variabili o costanti) dei problemi;  Capacità di individuare (anche in modo creativo) ipotesi di soluzione rispetto alle cause;  Capacità di definire le azioni da adottare;  Capacità di reperire le risorse umane, strumentali e finanziarie;  Capacità di verificare l’efficacia della soluzione trovata;  Capacità nell’identificazione ed eliminazione delle anomalie e dei ritardi;  Capacità e tempestività nelle Risposte;
B11: Realizzazione dei programmi e previsioni contenuti nei documenti di programmazione | C11: Assicurare un'efficace acquisizione, gestione e programmazione delle risorse finanziarie dell'ente al fine di garantire la qualità dei servizi svolti e il rispetto dei piani e dei programmi della politica | D11: Indice di impiego delle risorse | E11: Misura la capacità di utilizzo delle risorse a disposizione | F11: Formula =[ Somma totale tit. 1 impegnata dal Settore/ totali stanziati dal Settore tit. 1]*100; Formula =[ somme totali impegnati dal Settore Titolo II/somme totali stanziati dal Settore Titolo II ]*100 | G11: Corrente 85% ; | J11: Tutti | K11: x | N11: x | Q11: =IF(K11="x",5,0)+IF(L11="x",3,0)+IF(M11="x",1,0)+IF(N11="x",5,0)+IF(O11="x",3,0)+IF(P11="x",1,0) -> 10 | X11: =IF(R11="x",5,0)+IF(S11="x",3,0)+IF(T11="x",1,0)+IF(U11="x",1,0)+IF(V11="x",3,0)+IF(W11="x",5,0) -> 0 | Y11: =Q11+X11 -> 10 | Z11: =Q11+X11 -> 10 | AA11: =AB11/100 -> 0.91 | AB11: 91 | AC11: =IF($AA11<=0.2,IF($AA11>=0,"x",""),"") | AD11: =IF(AA11<=0.5,IF(AA11>=0.21,"x",""),"") | AE11: =IF(AA11<=0.7,IF(AA11>=0.51,"x",""),"") | AF11: =IF(AA11<=0.9,IF(AA11>=0.71,"x",""),"") | AG11: =IF(AA11<=1,IF(AA11>0.9,"x",""),"") -> x | AJ11: =SUM(Q11:Q11) -> 10 | AK11: =SUM(X11:X11) -> 0 | AL11: =SUM(AJ11:AK11) -> 10 | AM11: =AL11/AL21 -> 0.16666667 | CD11: L - Capacità Negoziale | CE11: L -  Capacità di concepire il conflitto come risorsa potenziale;  Capacità di tenere conto dei diversi interessi in gioco;  Capacità di elaborare e proporre mediazioni che tengano conto di tutti gli interessi in gioco;
B12: Trasparenza e Anticorruzione | C12: Attuazione delle misure previste dalla normativa e dal PTPCT dell'ente in materia di trasparenza e anticorruzione | D12: Attuazione degli obblighi in materia di Trasparenza | E12: Grado di trasparenza dell’amministrazione definito in termini di grado di compliance, (completezza, aggiornamento e apertura) degli obblighi di pubblicazione previsti dal d.lgs 33/2013 e calcolato come rapporto tra il punteggio complessivo ottenuto a seguito delle verifiche effettuate su ciascun obbligo di pubblicazione e il punteggio massimo conseguibile secondo le indicazioni di cui alla delibera ANAC relativa alle attestazioni OIV sull’assolvimento degli obblighi di pubblicazione per l’anno di riferimento (Unità di misura: %) | F12: Formula =[ Adempimenti attuati/Adempimenti in capo al CdR]*100 | G12: 0.95 | J12: Segretario | K12: x | N12: x | Q12: =IF(K12="x",5,0)+IF(L12="x",3,0)+IF(M12="x",1,0)+IF(N12="x",5,0)+IF(O12="x",3,0)+IF(P12="x",1,0) -> 10 | X12: =IF(R12="x",5,0)+IF(S12="x",3,0)+IF(T12="x",1,0)+IF(U12="x",1,0)+IF(V12="x",3,0)+IF(W12="x",5,0) -> 0 | Y12: =Q12+X12 -> 10 | Z12: =Q12+X12 -> 10 | AA12: =AB12/100 -> 1 | AB12: 100 | AC12: =IF($AA12<=0.2,IF($AA12>=0,"x",""),"") | AD12: =IF(AA12<=0.5,IF(AA12>=0.21,"x",""),"") | AE12: =IF(AA12<=0.7,IF(AA12>=0.51,"x",""),"") | AF12: =IF(AA12<=0.9,IF(AA12>=0.71,"x",""),"") | AG12: =IF(AA12<=1,IF(AA12>0.9,"x",""),"") -> x | AJ12: =SUM(Q12:Q13) -> 20 | AK12: =SUM(X12:X13) -> 0 | AL12: =SUM(AJ12:AK13) -> 20 | AM12: =AL12/AL21 -> 0.33333333 | CD12: Q - Gestione Risorse Umane | CE12: Q -  Capacità di informare, comunicare e coinvolgere le risorse umane nel raggiungimento degli obiettivi individuali e di gruppo Capacità di motivare, coinvolgere, far crescere professionalmente il personale affidato stimolando un clima organizzativo favorevole alla produttività  Capacità assegnare ruoli, responsabilità ed obiettivi secondo la competenza e la maturità professionale del personale  Capacità di definire programmi e flussi di lavoro, controllandone l’andamento  Capacità di valorizzare i propri collaboratori  Gestire le riunioni di lavoro finalizzandole all’obiettivo, alla crescita personale ed all’autonomia decisionale del personale Capacità di prevenire e mediare rispetto ad eventuali conflitti fra il personale  Capacità di predisporre piani di carriera ed azioni formative per lo sviluppo del personale  Capacità di valutare i risultati raggiunti rispetto agli obiettivi assegnati e concordare i necessari correttivi  Capacità di coordinare e di gestire con efficacia le riunioni di gruppo finalizzandole alla condivisione, alla crescita professionale ed alla autonomia decisionale e operativa dei collaboratori nell’ambito del loro ruolo  Capacità di distribuire equamente i compiti e i carichi di lavoro fra i collaboratori  Capacità di valutare in modo equo ed efficace le prestazioni dei propri collaboratori  Capacità di differenziare in maniera significativa le valutazioni dei collaboratori;  Capacità di individuare percorsi di sviluppo dei collaboratori ad alto potenziale
D13: Attuazione degli obblighi in materia di Anticorruzione | E13: Evidenzia la capacità del Dirigente di presidiare gli obblighi in materia di anticorruzione ascrivibili al CdR di diretta responsabilità | F13: Formula =[ Adempimenti attuati/Adempimenti in capo al CdR]*100 | G13: 0.95 | J13: Segretario | K13: x | N13: x | Q13: =IF(K13="x",5,0)+IF(L13="x",3,0)+IF(M13="x",1,0)+IF(N13="x",5,0)+IF(O13="x",3,0)+IF(P13="x",1,0) -> 10 | X13: =IF(R13="x",5,0)+IF(S13="x",3,0)+IF(T13="x",1,0)+IF(U13="x",1,0)+IF(V13="x",3,0)+IF(W13="x",5,0) -> 0 | Y13: =Q13+X13 -> 10 | Z13: =Q13+X13 -> 10 | AA13: =AB13/100 -> 1 | AB13: 100 | AC13: =IF($AA13<=0.2,IF($AA13>=0,"x",""),"") | AD13: =IF(AA13<=0.5,IF(AA13>=0.21,"x",""),"") | AE13: =IF(AA13<=0.7,IF(AA13>=0.51,"x",""),"") | AF13: =IF(AA13<=0.9,IF(AA13>=0.71,"x",""),"") | AG13: =IF(AA13<=1,IF(AA13>0.9,"x",""),"") -> x | CD13: R - Rapporti con l’utenza | CE13: R -  Capacità di ascolto dei destinatari e di sviluppare orientamenti all’utente  Capacità di gestire i rapporti, anche contrattuali, con interlocutori esterni  Organizzazione e gestione dell’orario di servizio in relazione alle esigenza dell’utenza  Gestione del feedback (risposte) verso gli utenti esterni rispetto alla presa in carico delle loro richieste  Gestione delle richieste esterne in modo diretto o indiretto tramite il coordinamento dei propri collaboratori  Disponibilità ad incontrare l’utenza esterna, prendendone in carico le richieste coerenti col ruolo e la funzione ricoperti e instaurando relazioni corrette e positive  Disponibilità ad organizzare le informazioni circa il servizio erogato dalla propria struttura per orientare l’utenza esterna (es. segnaletica interna, volantini illustrativi, esposizione di orari di ricevimento  Disponibilità ad organizzare in modo comprensibile e fruibile le informazioni richieste o spontaneamente erogate  Capacità di riconoscere ed attivarsi in modo coerente e tempestivo per la soddisfazione del bisogno espresso dall’utenza, curando anche le fasi del feedback
B14: Standard degli atti amministrativi | C14: Assicurare un elevato standard degli atti amministrativi finalizzato a garantire la legittimità, regolarità e correttezza dell’azione amministrativa nonche di regolarità contabile degli atti mediante l'attuazione dei controlli cosi come previsto nel numero e con le modalità programmate nel regolamento sui controlli interni adottato dall'ente. | D14: Qualità e correttezza degli Atti Amministrativi | E14: Evidenzia la capacità del Dirigente di predisporre gli atti amministrativi di competenza del proprio CdR soddisfacendo i requisiti previsti nel regolamento dei controlli interni | F14: Formula =[ N. atti sottoposti a controllo interno che non presentano anomalie/ N. atti sottoposti a controllo interno ]*100 | G14: 0.95 | J14: Segretario | K14: x | N14: x | Q14: =IF(K14="x",5,0)+IF(L14="x",3,0)+IF(M14="x",1,0)+IF(N14="x",5,0)+IF(O14="x",3,0)+IF(P14="x",1,0) -> 10 | X14: =IF(R14="x",5,0)+IF(S14="x",3,0)+IF(T14="x",1,0)+IF(U14="x",1,0)+IF(V14="x",3,0)+IF(W14="x",5,0) -> 0 | Y14: =Q14+X14 -> 10 | Z14: =Q14+X14 -> 10 | AA14: =AB14/100 -> 1 | AB14: 100 | AC14: =IF($AA14<=0.2,IF($AA14>=0,"x",""),"") | AD14: =IF(AA14<=0.5,IF(AA14>=0.21,"x",""),"") | AE14: =IF(AA14<=0.7,IF(AA14>=0.51,"x",""),"") | AF14: =IF(AA14<=0.9,IF(AA14>=0.71,"x",""),"") | AG14: =IF(AA14<=1,IF(AA14>0.9,"x",""),"") -> x | AJ14: =SUM(Q14:Q16) -> 30 | AK14: =SUM(X14:X16) -> 0 | AL14: =SUM(AJ14:AK16) -> 30 | AM14: =AL14/AL21 -> 0.5 | CD14: S - Gestione del tempo Lavoro | CE14: S -  Gestione efficace del tempo di lavoro rispetto agli obiettivi ricevuti  Supervisione dei propri collaboratori rispetto alla gestione del loro tempo di lavoro
D15: Rispetto sedute controllo successivo di regolarità amministrativa | E15: Evidenzia la capacità dell'ente di rispettare le previsioni regolamentari | F15: Formula =[ N. sedute di controllo successivo di regolarità amministrativa effettuate/ - N. sedute di controllo di regolarità amministrativa previste dal regolamento]*100 | G15: 1 | J15: Segretario | K15: x | N15: x | Q15: =IF(K15="x",5,0)+IF(L15="x",3,0)+IF(M15="x",1,0)+IF(N15="x",5,0)+IF(O15="x",3,0)+IF(P15="x",1,0) -> 10 | X15: =IF(R15="x",5,0)+IF(S15="x",3,0)+IF(T15="x",1,0)+IF(U15="x",1,0)+IF(V15="x",3,0)+IF(W15="x",5,0) -> 0 | Y15: =Q15+X15 -> 10 | Z15: =Q15+X15 -> 10 | AA15: =AB15/100 -> 1 | AB15: 100 | AC15: =IF($AA15<=0.2,IF($AA15>=0,"x",""),"") | AD15: =IF(AA15<=0.5,IF(AA15>=0.21,"x",""),"") | AE15: =IF(AA15<=0.7,IF(AA15>=0.51,"x",""),"") | AF15: =IF(AA15<=0.9,IF(AA15>=0.71,"x",""),"") | AG15: =IF(AA15<=1,IF(AA15>0.9,"x",""),"") -> x
D16: Efficacia dei controlli di regolarità contabile | E16: Evidenzia la capacità del Dirigente di predisporre gli atti amministrativi di competenza del proprio CdR soddisfacendo i requisiti previsti nel regolamento di contabilità | F16: Formula =[N. determinazione corrette per rilascio parere regolarità contabile/ - N. determinazioni pervenute dagli uffici]*100 | G16: 0.95 | J16: Responsabile CdR Contabile | K16: x | N16: x | Q16: =IF(K16="x",5,0)+IF(L16="x",3,0)+IF(M16="x",1,0)+IF(N16="x",5,0)+IF(O16="x",3,0)+IF(P16="x",1,0) -> 10 | X16: =IF(R16="x",5,0)+IF(S16="x",3,0)+IF(T16="x",1,0)+IF(U16="x",1,0)+IF(V16="x",3,0)+IF(W16="x",5,0) -> 0 | Y16: =Q16+X16 -> 10 | Z16: =Q16+X16 -> 10 | AA16: =AB16/100 -> 1 | AB16: 100 | AC16: =IF($AA16<=0.2,IF($AA16>=0,"x",""),"") | AD16: =IF(AA16<=0.5,IF(AA16>=0.21,"x",""),"") | AE16: =IF(AA16<=0.7,IF(AA16>=0.51,"x",""),"") | AF16: =IF(AA16<=0.9,IF(AA16>=0.71,"x",""),"") | AG16: =IF(AA16<=1,IF(AA16>0.9,"x",""),"") -> x
B17: Pianificare e implementare le azioni necessarie all'introduzione del Lavoro Agile secondo le direttive di cui all'art. 87 del D.L. n. 18 del 17/3/2020 recante "Misure straordinarie in materia di lavoro agile…" | C17: Emergenza COVID. Adeguamento dell'ente alle disposizioni del governo finalizzato al contenimento della diffuzione del virus covid- 19. Riorganizzazione dell'ente attraverso attivazione di smart working, turnazione dipendenti, congedi, ferie arretrate e altre modalità di riduzione dei contingenti presso l'ente, con mantenimento del personale in loco per la gestione dei servizi indifferibili | D17: Predisposizione e attuazione delle azioni tecnico e amministative necessarie per l'introduzione di forme di lavoro Agile per contrastare l'emergenza Covid 19, entro i termini e gli indirizzi previsti dall'organo esecutivo dell'ente | F17: Formula =[ Pianificazione e organizzazione di dettaglio del Lavoro Agile entro i tempi previsti dall'organo esecutivo ]; Formula =[Introduzione del Lavoro Agile secondo le direttive impartite]; Formula =[Introduzione di meccanismi di controllo sull'attività produttiva del personale che opera in ambiente di Smart Working]; | J17: Tutti | K17: x | N17: x | Q17: =IF(K17="x",5,0)+IF(L17="x",3,0)+IF(M17="x",1,0)+IF(N17="x",5,0)+IF(O17="x",3,0)+IF(P17="x",1,0) -> 10 | X17: =IF(R17="x",5,0)+IF(S17="x",3,0)+IF(T17="x",1,0)+IF(U17="x",1,0)+IF(V17="x",3,0)+IF(W17="x",5,0) -> 0 | Y17: =Q17+X17 -> 10 | Z17: =Q17+X17 -> 10 | AA17: =AB17/100 -> 1 | AB17: 100 | AC17: =IF($AA17<=0.2,IF($AA17>=0,"x",""),"") | AD17: =IF(AA17<=0.5,IF(AA17>=0.21,"x",""),"") | AE17: =IF(AA17<=0.7,IF(AA17>=0.51,"x",""),"") | AF17: =IF(AA17<=0.9,IF(AA17>=0.71,"x",""),"") | AG17: =IF(AA17<=1,IF(AA17>0.9,"x",""),"") -> x
B18: Gestione Programmazione - Economico Finanziaria nell'ambito dell'ermergenza Covid 19 | C18: Strumenti di programmazione: in relazione all'emergenza Covid-19, costante verifica e aggiornamento dello scostamento delle entrate rispetto a quanto originariamente previsto e ristrutturazione della spesa in funzione delle eventuali minori entrate che si dovessero concretizzare in corso d'anno. | D18: Presidio organizzativo delle azioni necessare ad assicurare la verifica periodica delle entrate e ristritturazione della spesa | F18: Formula =[risultato di amministrazione previsto nell'ultima variazione di bilancio/risultato di amministazione accertato a consuntivo]*100=90 | Q18: =IF(K18="x",5,0)+IF(L18="x",3,0)+IF(M18="x",1,0)+IF(N18="x",5,0)+IF(O18="x",3,0)+IF(P18="x",1,0) -> 0 | X18: =IF(R18="x",5,0)+IF(S18="x",3,0)+IF(T18="x",1,0)+IF(U18="x",1,0)+IF(V18="x",3,0)+IF(W18="x",5,0) -> 0 | Y18: =Q18+X18 -> 0 | Z18: =Q18+X18 -> 0 | AA18: =AB18/100 -> 1 | AB18: 100 | AC18: =IF($AA18<=0.2,IF($AA18>=0,"x",""),"") | AD18: =IF(AA18<=0.5,IF(AA18>=0.21,"x",""),"") | AE18: =IF(AA18<=0.7,IF(AA18>=0.51,"x",""),"") | AF18: =IF(AA18<=0.9,IF(AA18>=0.71,"x",""),"") | AG18: =IF(AA18<=1,IF(AA18>0.9,"x",""),"") -> x
B19: Attuazione delle disposizioni in materia di " salute, sostegno al lavoro e all'economia, nonché di politiche sociali connesse all'emergenza epidemilogica" | C19: Predisposizione delle misure attuative previste dal dall'art. 263 del Decreto Rilancio del 19.05.2020, n° 34 | D19: Assicurare la predisposizione e successiva attuazione di quanto programmato in attuazione di quanto previsto nel decreto rilancio | F19: Formula= [predisposizione di un piano di azioni attuative delle misure previste nel decreto rilencio entro la prima decade di luglio]; Formula= [misure e azioni realizzate / misure e azioni previste nel piano attuativo]*100 | K19: x | N19: x | Q19: =IF(K19="x",5,0)+IF(L19="x",3,0)+IF(M19="x",1,0)+IF(N19="x",5,0)+IF(O19="x",3,0)+IF(P19="x",1,0) -> 10 | X19: =IF(R19="x",5,0)+IF(S19="x",3,0)+IF(T19="x",1,0)+IF(U19="x",1,0)+IF(V19="x",3,0)+IF(W19="x",5,0) -> 0 | Y19: =Q19+X19 -> 10 | Z19: =Q19+X19 -> 10 | AA19: =AB19/100 -> 0.5 | AB19: 50 | AC19: =IF($AA19<=0.2,IF($AA19>=0,"x",""),"") | AD19: =IF(AA19<=0.5,IF(AA19>=0.21,"x",""),"") -> x | AE19: =IF(AA19<=0.7,IF(AA19>=0.51,"x",""),"") | AF19: =IF(AA19<=0.9,IF(AA19>=0.71,"x",""),"") | AG19: =IF(AA19<=1,IF(AA19>0.9,"x",""),"")
Q20: =IF(K20="x",5,0)+IF(L20="x",3,0)+IF(M20="x",1,0)+IF(N20="x",5,0)+IF(O20="x",3,0)+IF(P20="x",1,0) -> 0 | X20: =IF(R20="x",5,0)+IF(S20="x",3,0)+IF(T20="x",1,0)+IF(U20="x",1,0)+IF(V20="x",3,0)+IF(W20="x",5,0) -> 0 | Y20: =Q20+X20 -> 0 | Z20: =Q20+X20 -> 0 | AA20: =AB20/100 -> 1 | AB20: 100 | AC20: =IF($AA20<=0.2,IF($AA20>=0,"x",""),"") | AD20: =IF(AA20<=0.5,IF(AA20>=0.21,"x",""),"") | AE20: =IF(AA20<=0.7,IF(AA20>=0.51,"x",""),"") | AF20: =IF(AA20<=0.9,IF(AA20>=0.71,"x",""),"") | AG20: =IF(AA20<=1,IF(AA20>0.9,"x",""),"") -> x
K21: Giunta | Q21: =SUM(Q11:Q20) -> 80 | R21: Responsabili | X21: =SUM(X11:X20) -> 0 | Y21: =SUM(Y11:Y20) -> 80 | Z21: =SUM(Z11:Z20) -> 80 | AC21: Valutazione | AH21: ESITO | AJ21: =SUM(AJ11:AJ16) -> 60 | AK21: =SUM(AK11:AK16) -> 0 | AL21: =SUM(AL11:AL16) -> 60 | AM21: =SUM(AM11:AM16) -> 1
AD22: =IF(AD11="x",AA11*Z11)+IF(#REF!="x",#REF!*#REF!)+IF(#REF!="x",#REF!*#REF!)+IF(#REF!="x",#REF!*#REF!)+IF(#REF!="x",#REF!*#REF!)+IF(#REF!="x",#REF!*#REF!)+IF(#REF!="x",#REF!*#REF!)+IF(#REF!="x",#REF!*#REF!)+IF(AD161="x",#REF!*#REF!)+IF(#REF!="x",#REF!*#REF!)+IF(#REF!="x",#REF!*#REF!)+IF(#REF!="x",#REF!*#REF!)+IF(#REF!="x",#REF!*#REF!)+IF(#REF!="x",#REF!*#REF!)+IF(#REF!="x",#REF!*#REF!)+IF(#REF!="x",#REF!*#REF!)+IF(#REF!="x",#REF!*#REF!)+IF(#REF!="x",#REF!*#REF!)+IF(#REF!="x",#REF!*#REF!)+IF(#REF!="x",#REF!*#REF!)+IF(#REF!="x",#REF!*#REF!)+IF(#REF!="x",#REF!*#REF!)+IF(#REF!="x",#REF!*#REF!)+IF(#REF!="x",#REF!*#REF!)+IF(#REF!="x",#REF!*#REF!)+IF(AD12="x",AA12*Z12)+IF(AD13="x",AA13*Z13)+IF(AD14="x",AA14*Z14)+IF(AD15="x",AA15*Z15)+IF(AD16="x",AA16*Z16)+IF(#REF!="x",#REF!*#REF!)+IF(#REF!="x",#REF!*#REF!)+IF(#REF!="x",#REF!*#REF!)+IF(#REF!="x",#REF!*#REF!)+IF(#REF!="x",#REF!*#REF!)+IF(#REF!="x",#REF!*#REF!)+IF(AD17="x",AA17*Z17)+IF(AD18="x",AA18*Z18)+IF(AD19="x",AA19*Z19)+IF(AD20="x",AA20*Z20) -> #REF! | AE22: =IF(AE11="x",Z11*AA11)+IF(#REF!="x",#REF!*#REF!)+IF(#REF!="x",#REF!*#REF!)+IF(#REF!="x",#REF!*#REF!)+IF(#REF!="x",#REF!*#REF!)+IF(#REF!="x",#REF!*#REF!)+IF(#REF!="x",#REF!*#REF!)+IF(#REF!="x",#REF!*#REF!)+IF(AE161="x",#REF!*#REF!)+IF(#REF!="x",#REF!*#REF!)+IF(#REF!="x",#REF!*#REF!)+IF(#REF!="x",#REF!*#REF!)+IF(#REF!="x",#REF!*#REF!)+IF(#REF!="x",#REF!*#REF!)+IF(#REF!="x",#REF!*#REF!)+IF(#REF!="x",#REF!*#REF!)+IF(#REF!="x",#REF!*#REF!)+IF(#REF!="x",#REF!*#REF!)+IF(#REF!="x",#REF!*#REF!)+IF(#REF!="x",#REF!*#REF!)+IF(#REF!="x",#REF!*#REF!)+IF(#REF!="x",#REF!*#REF!)+IF(#REF!="x",#REF!*#REF!)+IF(#REF!="x",#REF!*#REF!)+IF(#REF!="x",#REF!*#REF!)+IF(AE12="x",Z12*AA12)+IF(AE13="x",Z13*AA13)+IF(AE14="x",Z14*AA14)+IF(AE15="x",Z15*AA15)+IF(AE16="x",Z16*AA16)+IF(#REF!="x",#REF!*#REF!)+IF(#REF!="x",#REF!*#REF!)+IF(#REF!="x",#REF!*#REF!)+IF(#REF!="x",#REF!*#REF!)+IF(#REF!="x",#REF!*#REF!)+IF(#REF!="x",#REF!*#REF!)+IF(AE17="x",Z17*AA17)+IF(AE18="x",Z18*AA18)+IF(AE19="x",Z19*AA19)+IF(AE20="x",Z20*AA20) -> #REF! | AF22: =IF(AF11="x",AA11*Z11)+IF(#REF!="x",#REF!*#REF!)+IF(#REF!="x",#REF!*#REF!)+IF(#REF!="x",#REF!*#REF!)+IF(#REF!="x",#REF!*#REF!)+IF(#REF!="x",#REF!*#REF!)+IF(#REF!="x",#REF!*#REF!)+IF(#REF!="x",#REF!*#REF!)+IF(AF161="x",#REF!*#REF!)+IF(#REF!="x",#REF!*#REF!)+IF(#REF!="x",#REF!*#REF!)+IF(#REF!="x",#REF!*#REF!)+IF(#REF!="x",#REF!*#REF!)+IF(#REF!="x",#REF!*#REF!)+IF(#REF!="x",#REF!*#REF!)+IF(#REF!="x",#REF!*#REF!)+IF(#REF!="x",#REF!*#REF!)+IF(#REF!="x",#REF!*#REF!)+IF(#REF!="x",#REF!*#REF!)+IF(#REF!="x",#REF!*#REF!)+IF(#REF!="x",#REF!*#REF!)+IF(#REF!="x",#REF!*#REF!)+IF(#REF!="x",#REF!*#REF!)+IF(#REF!="x",#REF!*#REF!)+IF(#REF!="x",#REF!*#REF!)+IF(AF12="x",AA12*Z12)+IF(AF13="x",AA13*Z13)+IF(AF14="x",AA14*Z14)+IF(AF15="x",AA15*Z15)+IF(AF16="x",AA16*Z16)+IF(#REF!="x",#REF!*#REF!)+IF(#REF!="x",#REF!*#REF!)+IF(#REF!="x",#REF!*#REF!)+IF(#REF!="x",#REF!*#REF!)+IF(#REF!="x",#REF!*#REF!)+IF(#REF!="x",#REF!*#REF!)+IF(AF17="x",AA17*Z17)+IF(AF18="x",AA18*Z18)+IF(AF19="x",AA19*Z19)+IF(AF20="x",AA20*Z20) -> #REF! | AG22: =IF(AG11="x",Z11*AA11)+IF(#REF!="x",#REF!*#REF!)+IF(#REF!="x",#REF!*#REF!)+IF(#REF!="x",#REF!*#REF!)+IF(#REF!="x",#REF!*#REF!)+IF(#REF!="x",#REF!*#REF!)+IF(#REF!="x",#REF!*#REF!)+IF(#REF!="x",#REF!*#REF!)+IF(AG161="x",#REF!*#REF!)+IF(#REF!="x",#REF!*#REF!)+IF(#REF!="x",#REF!*#REF!)+IF(#REF!="x",#REF!*#REF!)+IF(#REF!="x",#REF!*#REF!)+IF(#REF!="x",#REF!*#REF!)+IF(#REF!="x",#REF!*#REF!)+IF(#REF!="x",#REF!*#REF!)+IF(#REF!="x",#REF!*#REF!)+IF(#REF!="x",#REF!*#REF!)+IF(#REF!="x",#REF!*#REF!)+IF(#REF!="x",#REF!*#REF!)+IF(#REF!="x",#REF!*#REF!)+IF(#REF!="x",#REF!*#REF!)+IF(#REF!="x",#REF!*#REF!)+IF(#REF!="x",#REF!*#REF!)+IF(#REF!="x",#REF!*#REF!)+IF(AG12="x",Z12*AA12)+IF(AG13="x",Z13*AA13)+IF(AG14="x",Z14*AA14)+IF(AG15="x",Z15*AA15)+IF(AG16="x",Z16*AA16)+IF(#REF!="x",#REF!*#REF!)+IF(#REF!="x",#REF!*#REF!)+IF(#REF!="x",#REF!*#REF!)+IF(#REF!="x",#REF!*#REF!)+IF(#REF!="x",#REF!*#REF!)+IF(#REF!="x",#REF!*#REF!)+IF(AG17="x",Z17*AA17)+IF(AG18="x",Z18*AA18)+IF(AG19="x",Z19*AA19)+IF(AG20="x",Z20*AA20) -> #REF! | AH22: =SUM(AD22:AG22) -> #REF!
AE24: =AH22 -> #REF!

Sheet 8vuota
A2: OBIETTIVO DELL'ORGANO POLITICO - AMMINISTRATIVO 2019
A3: PERFORMANCE ORGANIZZATIVA | AH3: N. | AI3: ='Elenco P.O.'!B10 -> Obiettivo Operativo: giunta
A4: COMUNE DI | S4: ='Elenco P.O.'!C1 -> 0
A5: CDR | E5: AREA FINANZIARIA | K5: RESPONSABILE PRIMARIO: | X5: ALTRI CDR COINVOLTI | AC5: TUTTI | BA5: Programmi
A6: INDIRIZZO STRATEGICO
A7: MISSIONE
A8: PROGRAMMA
A9: OBIETTIVO OPERATIVO
A12: OBIETTIVO GESTIONALE
A13: TITOLO OBIETTIVO | E13: ='Elenco P.O.'!E10 -> Descrizione
A14: RISULTATO ATTESO | E14: indicatore | M14: descrizione | U14: formula | AC14: target | AF14: 2018 | AH14: 2017
A29: PESO OBIETTIVO | E29: Variabili | I29: RILEVANZA | X29: Esito Pesatura
I30: Alto | N30: Medio | S30: Basso | X30: =IF(I31="X",5)+IF(I32="X",5)+IF(I33="X",5)+IF(I34="X",1)+IF(N31="X",3)+IF(N32="X",3)+IF(N33="X",3)+IF(N34="X",3)+IF(S31="X",1)+IF(S32="X",1)+IF(S33="X",1)+IF(S34="X",5) -> 0
E31: Importanza
E32: Impatto Esterno
E33: Complessità
E34: Realizzabilità
A35: RISORSE ASSEGNATE AL PROGRAMMA | E35: 100 | N35: RISORSE OBIETTIVO | S35: 100 | X35: INDICE DI ASSORBIMENTO | AF35: =S35/E35 -> 1
A36: COMPILAZIONE SCHEDA A CURA DEL DIRIGENTE O RESPONSABILE PRIMARIO
A37: PIANIFICAZIONE ESECUTIVA | X37: CONTRIBUTO | AF37: MISURAZIONE
A38: Area/Settore | F38: % di contribuzione | J38: peso assoluto in capo all'Area | N38: valore atteso | X38: indicatori di misurazione | AF38: esito atteso
A39: 1 | J39: =F39*$X$30 -> 0
A44: Area/Settore | F44: % di contribuzione | J44: peso assoluto in capo all'Area | N44: valore atteso | X44: indicatori di misurazione | AF44: esito atteso
A45: 2 | J45: =F45*$X$30 -> 0
A50: Area/Settore | F50: % di contribuzione | J50: peso assoluto in capo all'Area | N50: valore atteso | X50: indicatori di misurazione | AF50: esito atteso
A51: 3 | J51: =F51*$X$30 -> 0
A56: Area/Settore | F56: % di contribuzione | J56: peso assoluto in capo all'Area | N56: valore atteso | X56: indicatori di misurazione | AF56: esito atteso
A57: 4 | J57: =F57*$X$30 -> 0
A62: Area/Settore | F62: % di contribuzione | J62: peso assoluto in capo all'Area | N62: valore atteso | X62: indicatori di misurazione | AF62: esito atteso
A63: 5 | J63: =F63*$X$30 -> 0
A68: Area/Settore | F68: % di contribuzione | J68: peso assoluto in capo all'Area | N68: valore atteso | X68: indicatori di misurazione | AF68: esito atteso
A69: 6 | J69: =F69*$X$30 -> 0
A74: Area/Settore | F74: % di contribuzione | J74: peso assoluto in capo all'Area | N74: valore atteso | X74: indicatori di misurazione | AF74: esito atteso
A75: 7 | J75: =F75*$X$30 -> 0
A80: Area/Settore | F80: % di contribuzione | J80: peso assoluto in capo all'Area | N80: valore atteso | X80: indicatori di misurazione | AF80: esito atteso
A81: 8 | J81: =F81*$X$30 -> 0
A86: Area/Settore | F86: % di contribuzione | J86: peso assoluto in capo all'Area | N86: valore atteso | X86: indicatori di misurazione | AF86: esito atteso
A87: 9 | J87: =F87*$X$30 -> 0
A92: Area/Settore | F92: % di contribuzione | J92: peso assoluto in capo all'Area | N92: valore atteso | X92: indicatori di misurazione | AF92: esito atteso
A93: 10 | J93: =F93*$X$30 -> 0
...

Sheet 9vuota
A2: OBIETTIVO DELL'ORGANO POLITICO - AMMINISTRATIVO 2019
A3: PERFORMANCE ORGANIZZATIVA | AH3: N. | AI3: ='Elenco P.O.'!B11 -> Realizzazione dei programmi e previsioni contenuti nei documenti di programmazione
A4: COMUNE DI | S4: ='Elenco P.O.'!C1 -> 0
A5: CDR | E5: AREA FINANZIARIA | K5: RESPONSABILE PRIMARIO: | X5: ALTRI CDR COINVOLTI | AC5: TUTTI | BA5: Programmi
A6: INDIRIZZO STRATEGICO
A7: MISSIONE
A8: PROGRAMMA
A9: OBIETTIVO OPERATIVO
A12: OBIETTIVO GESTIONALE
A13: TITOLO OBIETTIVO | E13: ='Elenco P.O.'!E11 -> Misura la capacità di utilizzo delle risorse a disposizione
A14: RISULTATO ATTESO | E14: indicatore | M14: descrizione | U14: formula | AC14: target | AF14: 2018 | AH14: 2017
A29: PESO OBIETTIVO | E29: Variabili | I29: RILEVANZA | X29: Esito Pesatura
I30: Alto | N30: Medio | S30: Basso | X30: =IF(I31="X",5)+IF(I32="X",5)+IF(I33="X",5)+IF(I34="X",1)+IF(N31="X",3)+IF(N32="X",3)+IF(N33="X",3)+IF(N34="X",3)+IF(S31="X",1)+IF(S32="X",1)+IF(S33="X",1)+IF(S34="X",5) -> 0
E31: Importanza
E32: Impatto Esterno
E33: Complessità
E34: Realizzabilità
A35: RISORSE ASSEGNATE AL PROGRAMMA | E35: 100 | N35: RISORSE OBIETTIVO | S35: 100 | X35: INDICE DI ASSORBIMENTO | AF35: =S35/E35 -> 1
A36: COMPILAZIONE SCHEDA A CURA DEL DIRIGENTE O RESPONSABILE PRIMARIO
A37: PIANIFICAZIONE ESECUTIVA | X37: CONTRIBUTO | AF37: MISURAZIONE
A38: Area/Settore | F38: % di contribuzione | J38: peso assoluto in capo all'Area | N38: valore atteso | X38: indicatori di misurazione | AF38: esito atteso
A39: 1 | J39: =F39*$X$30 -> 0
A44: Area/Settore | F44: % di contribuzione | J44: peso assoluto in capo all'Area | N44: valore atteso | X44: indicatori di misurazione | AF44: esito atteso
A45: 2 | J45: =F45*$X$30 -> 0
A50: Area/Settore | F50: % di contribuzione | J50: peso assoluto in capo all'Area | N50: valore atteso | X50: indicatori di misurazione | AF50: esito atteso
A51: 3 | J51: =F51*$X$30 -> 0
A56: Area/Settore | F56: % di contribuzione | J56: peso assoluto in capo all'Area | N56: valore atteso | X56: indicatori di misurazione | AF56: esito atteso
A57: 4 | J57: =F57*$X$30 -> 0
A62: Area/Settore | F62: % di contribuzione | J62: peso assoluto in capo all'Area | N62: valore atteso | X62: indicatori di misurazione | AF62: esito atteso
A63: 5 | J63: =F63*$X$30 -> 0
A68: Area/Settore | F68: % di contribuzione | J68: peso assoluto in capo all'Area | N68: valore atteso | X68: indicatori di misurazione | AF68: esito atteso
A69: 6 | J69: =F69*$X$30 -> 0
A74: Area/Settore | F74: % di contribuzione | J74: peso assoluto in capo all'Area | N74: valore atteso | X74: indicatori di misurazione | AF74: esito atteso
A75: 7 | J75: =F75*$X$30 -> 0
A80: Area/Settore | F80: % di contribuzione | J80: peso assoluto in capo all'Area | N80: valore atteso | X80: indicatori di misurazione | AF80: esito atteso
A81: 8 | J81: =F81*$X$30 -> 0
A86: Area/Settore | F86: % di contribuzione | J86: peso assoluto in capo all'Area | N86: valore atteso | X86: indicatori di misurazione | AF86: esito atteso
A87: 9 | J87: =F87*$X$30 -> 0
A92: Area/Settore | F92: % di contribuzione | J92: peso assoluto in capo all'Area | N92: valore atteso | X92: indicatori di misurazione | AF92: esito atteso
A93: 10 | J93: =F93*$X$30 -> 0
...

Sheet 10vuota
A2: OBIETTIVO DELL'ORGANO POLITICO - AMMINISTRATIVO 2019
A3: PERFORMANCE ORGANIZZATIVA | AH3: N. | AI3: ='Elenco P.O.'!#REF! -> #REF!
A4: COMUNE DI | S4: ='Elenco P.O.'!C1 -> 0
A5: CDR | E5: AREA FINANZIARIA | K5: RESPONSABILE PRIMARIO: | X5: ALTRI CDR COINVOLTI | AC5: TUTTI | BA5: Programmi
A6: INDIRIZZO STRATEGICO
A7: MISSIONE
A8: PROGRAMMA
A9: OBIETTIVO OPERATIVO
A12: OBIETTIVO GESTIONALE
A13: TITOLO OBIETTIVO | E13: ='Elenco P.O.'!#REF! -> #REF!
A14: RISULTATO ATTESO | E14: indicatore | M14: descrizione | U14: formula | AC14: target | AF14: 2018 | AH14: 2017
A29: PESO OBIETTIVO | E29: Variabili | I29: RILEVANZA | X29: Esito Pesatura
I30: Alto | N30: Medio | S30: Basso | X30: =IF(I31="X",5)+IF(I32="X",5)+IF(I33="X",5)+IF(I34="X",1)+IF(N31="X",3)+IF(N32="X",3)+IF(N33="X",3)+IF(N34="X",3)+IF(S31="X",1)+IF(S32="X",1)+IF(S33="X",1)+IF(S34="X",5) -> 0
E31: Importanza
E32: Impatto Esterno
E33: Complessità
E34: Realizzabilità
A35: RISORSE ASSEGNATE AL PROGRAMMA | E35: 100 | N35: RISORSE OBIETTIVO | S35: 100 | X35: INDICE DI ASSORBIMENTO | AF35: =S35/E35 -> 1
A36: COMPILAZIONE SCHEDA A CURA DEL DIRIGENTE O RESPONSABILE PRIMARIO
A37: PIANIFICAZIONE ESECUTIVA | X37: CONTRIBUTO | AF37: MISURAZIONE
A38: Area/Settore | F38: % di contribuzione | J38: peso assoluto in capo all'Area | N38: valore atteso | X38: indicatori di misurazione | AF38: esito atteso
A39: 1 | J39: =F39*$X$30 -> 0
A44: Area/Settore | F44: % di contribuzione | J44: peso assoluto in capo all'Area | N44: valore atteso | X44: indicatori di misurazione | AF44: esito atteso
A45: 2 | J45: =F45*$X$30 -> 0
A50: Area/Settore | F50: % di contribuzione | J50: peso assoluto in capo all'Area | N50: valore atteso | X50: indicatori di misurazione | AF50: esito atteso
A51: 3 | J51: =F51*$X$30 -> 0
A56: Area/Settore | F56: % di contribuzione | J56: peso assoluto in capo all'Area | N56: valore atteso | X56: indicatori di misurazione | AF56: esito atteso
A57: 4 | J57: =F57*$X$30 -> 0
A62: Area/Settore | F62: % di contribuzione | J62: peso assoluto in capo all'Area | N62: valore atteso | X62: indicatori di misurazione | AF62: esito atteso
A63: 5 | J63: =F63*$X$30 -> 0
A68: Area/Settore | F68: % di contribuzione | J68: peso assoluto in capo all'Area | N68: valore atteso | X68: indicatori di misurazione | AF68: esito atteso
A69: 6 | J69: =F69*$X$30 -> 0
A74: Area/Settore | F74: % di contribuzione | J74: peso assoluto in capo all'Area | N74: valore atteso | X74: indicatori di misurazione | AF74: esito atteso
A75: 7 | J75: =F75*$X$30 -> 0
A80: Area/Settore | F80: % di contribuzione | J80: peso assoluto in capo all'Area | N80: valore atteso | X80: indicatori di misurazione | AF80: esito atteso
A81: 8 | J81: =F81*$X$30 -> 0
A86: Area/Settore | F86: % di contribuzione | J86: peso assoluto in capo all'Area | N86: valore atteso | X86: indicatori di misurazione | AF86: esito atteso
A87: 9 | J87: =F87*$X$30 -> 0
A92: Area/Settore | F92: % di contribuzione | J92: peso assoluto in capo all'Area | N92: valore atteso | X92: indicatori di misurazione | AF92: esito atteso
A93: 10 | J93: =F93*$X$30 -> 0
...

Sheet Tecnico
BJ1: COMPORTAMENTO | BK1: OGGETTO DELLA MISURAZIONE
B2: SCHEDA DI VALUTAZIONE PERFORMANCE DEL RESPONSABILE
BJ4: COMPORTAMENTO | BK4: OGGETTO DELLA MISURAZIONE
B5: ENTE | C5: ='Elenco P.I.'!B2 -> Comune di Arborea | BJ5: A - Traduzione operativa dei piani e programmi della politica: | BK5: A - Capacità di declinare in obiettivi concreti i piani e i programmi della politica;
B6: SERVIZIO: | C6: Tecnico | M6: ANNO | N6: 2021 | BJ6: B - Pianificazione, organizzazione e controllo: | BK6: B -  saper definire e ridefinire costantemente l’ottimale piano delle azioni in relazione alle risorse disponibili e agli obiettivi di risultato oltre che alle condizioni di variabilità del contesto;  capacità di organizzare efficacemente le proprie attività, con precisione, nel rispetto delle esigenze e delle priorità, fronteggiando anche situazioni impreviste;
B7: RESPONSABILE | BJ7: C - Relazione e integrazione: | BK7: C -  comunicazione e capacità relazionale con i colleghi  capacità di visione interfunzionale al fine di potenziare i processi di programmazione, realizzazione e rendicontazione;  partecipazione alla vita organizzativa;  integrazione con gli amministratori su obiettivi assegnati;  capacità di lavorare in gruppo;  capacità negoziale e gestione dei conflitti;  qualità delle relazioni interpersonali con colleghi e collaboratori;  qualità delle relazioni con utenti dei servizi ed altri interlocutori abituali);  collaborazione ed integrazione nei processi di servizio;
BJ8: COMPORTAMENTO | BK8: OGGETTO DELLA MISURAZIONE
B9: Esito obiettivo di Performance Organizzativa | E9: Indicatore sintetico di Performance Organizzativa
